BEGIN:VCALENDAR
VERSION:2.0
PRODID:-//wp-events-plugin.com//7.2.3.1//EN
TZID:Europe/London
X-WR-TIMEZONE:Europe/London
BEGIN:VEVENT
UID:166@broadchalkevillagehall.co.uk
DTSTART;TZID=Europe/London:20260311T100000
DTEND;TZID=Europe/London:20260311T120000
DTSTAMP:20260112T155156Z
URL:https://broadchalkevillagehall.co.uk/events/literature-group-9/
SUMMARY:Literature Group
DESCRIPTION:
CATEGORIES:Literature
LOCATION:Gurston Room\, 1 South Street\, Broad Chalke\, Wiltshire\, SP5 5DN
 \, United Kingdom
X-APPLE-STRUCTURED-LOCATION;VALUE=URI;X-ADDRESS=1 South Street\, Broad Chal
 ke\, Wiltshire\, SP5 5DN\, United Kingdom;X-APPLE-RADIUS=100;X-TITLE=Gurst
 on Room:geo:0,0
END:VEVENT
BEGIN:VTIMEZONE
TZID:Europe/London
X-LIC-LOCATION:Europe/London
BEGIN:STANDARD
DTSTART:20251026T010000
TZOFFSETFROM:+0100
TZOFFSETTO:+0000
TZNAME:GMT
END:STANDARD
END:VTIMEZONE
END:VCALENDAR